View In:
ArcGIS JavaScript
ArcGIS Online Map Viewer
ArcGIS Earth
ArcMap
View Footprint In:
ArcGIS Online Map Viewer
Service Description: Von 1869 - 1938 entstanden diese als "Geologische Spezialkarten" bezeichneten Blätter im Maßstab 1:75.000, vereinzelt erfolgten Ergänzungen bis in das Jahr 1954. Dieses Spezialkartenwerk entstand im Zuge der Zweiten Geologischen Landesaufnahme und stellt das erste geologische Kartenwerk Österreichs dar, welches in Auflagendruck ausgegeben wurde und blieb bis 1938 das Standard-Kartenwerk für Österreich. Diese Karten sind bis heute für manche Gebiete hervorragende geologische Unterlagen.
Name: image/AT_GBA_GK75
Description: Von 1869 - 1938 entstanden diese als "Geologische Spezialkarten" bezeichneten Blätter im Maßstab 1:75.000, vereinzelt erfolgten Ergänzungen bis in das Jahr 1954. Dieses Spezialkartenwerk entstand im Zuge der Zweiten Geologischen Landesaufnahme und stellt das erste geologische Kartenwerk Österreichs dar, welches in Auflagendruck ausgegeben wurde und blieb bis 1938 das Standard-Kartenwerk für Österreich. Diese Karten sind bis heute für manche Gebiete hervorragende geologische Unterlagen.
Single Fused Map Cache: false
Extent:
XMin: 134005.5725999996
YMin: 261481.87693987973
XMax: 696815.5725999996
YMax: 572511.8769398797
Spatial Reference: 31297
(31287)
Initial Extent:
XMin: 134005.5725999996
YMin: 261481.87693987973
XMax: 696815.5725999996
YMax: 572511.8769398797
Spatial Reference: 31297
(31287)
Full Extent:
XMin: 134005.5725999996
YMin: 261481.87693987973
XMax: 696815.5725999996
YMax: 572511.8769398797
Spatial Reference: 31297
(31287)
Time Info:
Start Time Field: HERAUSGABEJAHR
End Time Field: HERAUSGABEJAHR
Time Extent:
[1892/01/01 00:00:00 UTC, 1954/01/01 00:00:00 UTC]
Time Reference:
N/A
Pixel Size X: 10.0
Pixel Size Y: 10.0
Band Count: 3
Pixel Type: U8
RasterFunction Infos: {"rasterFunctionInfos": [{
"name": "None",
"description": "A No-Op Function.",
"help": ""
}]}
Mensuration Capabilities:
Has Histograms: true
Has Colormap: false
Has Multi Dimensions : false
Rendering Rule:
Min Scale: 0
Max Scale: 0
Copyright Text: GeoSphere Austria (Geologische Bundesanstalt, erstellt am 6.12.2019)
Service Data Type: esriImageServiceDataTypeRGB
Min Values: 1, 1, 1
Max Values: 255, 255, 255
Mean Values: 153.52893777537747, 141.46090629159457, 120.5439650757729
Standard Deviation Values: 55.534227250884356, 54.360619341293145, 46.577844165299716
Object ID Field: OBJECTID
Fields:
-
OBJECTID
(
type: esriFieldTypeOID, alias: OBJECTID
)
-
Shape
(
type: esriFieldTypeGeometry, alias: Shape
)
-
Name
(
type: esriFieldTypeString, alias: Name, length: 50
)
-
Category
(
type: esriFieldTypeInteger, alias: Category
)
-
TITEL
(
type: esriFieldTypeString, alias: TITEL, length: 255
)
-
HERAUSGABEJAHR
(
type: esriFieldTypeSmallInteger, alias: HERAUSGABEJAHR
)
-
MASSSTAB
(
type: esriFieldTypeInteger, alias: MASSSTAB
)
-
MD_KARTE_ID
(
type: esriFieldTypeInteger, alias: MD_KARTE_ID
)
-
GEOKART_BERICHTSNR
(
type: esriFieldTypeString, alias: GEOKART_BERICHTSNR, length: 50
)
-
LINK
(
type: esriFieldTypeString, alias: LINK, length: 255
)
-
LINK_GIF
(
type: esriFieldTypeString, alias: LINK_GIF, length: 255
)
-
LINK_ADLIB
(
type: esriFieldTypeString, alias: LINK_ADLIB, length: 255
)
-
LINK_PDF
(
type: esriFieldTypeString, alias: LINK_PDF, length: 255
)
-
PRODUKT_ID
(
type: esriFieldTypeInteger, alias: PRODUKT_ID
)
Default Mosaic Method: Center
Allowed Mosaic Methods: Center,NorthWest,LockRaster,ByAttribute,Nadir,Viewpoint,Seamline,None
SortField:
SortValue: null
Mosaic Operator: First
Default Compression Quality: 75
Default Resampling Method: Bilinear
Max Record Count: 100
Max Image Height: 4096
Max Image Width: 16384
Max Download Image Count: 20
Max Mosaic Image Count: 100
Allow Raster Function: true
Allow Copy: null
Allow Analysis: null
Allow Compute TiePoints: false
Supports Statistics: true
Supports Advanced Queries: true
Use StandardizedQueries: true
Raster Type Infos:
Name: WMS
Description: Allows a WMS (Web Map Service) layer to be consumed as a raster dataset.
Help:
Name: Raster Dataset
Description: Supports all ArcGIS Raster Datasets
Help:
Has Raster Attribute Table: false
Edit Fields Info: null
Ownership Based AccessControl For Rasters: null
Child Resources:
Info
Histograms
Key Properties
Legend
Raster Function Infos
Supported Operations:
Export Image
Query
Identify
Measure
Compute Histograms
Compute Statistics Histograms
Get Samples
Compute Class Statistics
Query Boundary
Compute Pixel Location
Compute Angles
Validate
Project