View In:
ArcGIS JavaScript
ArcGIS Online Map Viewer
ArcGIS Earth
ArcMap
View Footprint In:
ArcGIS Online Map Viewer
Service Description: GEOFAST
Name: image/AT_GBA_GEOFAST
Description: GEOFAST
Single Fused Map Cache: false
Extent:
XMin: 134003.3378000036
YMin: 289642.44040000014
XMax: 678283.337800002
YMax: 572509.9403999993
Spatial Reference: 31297
(31287)
Initial Extent:
XMin: 134003.3378000036
YMin: 289642.44040000014
XMax: 678283.337800002
YMax: 572509.9403999993
Spatial Reference: 31297
(31287)
Full Extent:
XMin: 134003.3378000036
YMin: 289642.44040000014
XMax: 678283.337800002
YMax: 572509.9403999993
Spatial Reference: 31297
(31287)
Pixel Size X: 2.4999999999999925
Pixel Size Y: 2.4999999999999925
Band Count: 3
Pixel Type: U8
RasterFunction Infos: {"rasterFunctionInfos": [{
"name": "None",
"description": "A No-Op Function.",
"help": ""
}]}
Mensuration Capabilities:
Has Histograms: true
Has Colormap: false
Has Multi Dimensions : false
Rendering Rule:
Min Scale: 0
Max Scale: 0
Copyright Text: Geologische Bundesanstalt, 24.2.2021
Service Data Type: esriImageServiceDataTypeRGB
Min Values: 0.004944571393280639, 0.004944571393280639, 0.004944571393280639
Max Values: 254.49700855360672, 254.49700855360672, 254.49700855360672
Mean Values: 176.40986143389878, 173.12507807661535, 169.0656230974002
Standard Deviation Values: 58.333528074319034, 58.38048458109843, 58.64953519561895
Object ID Field: OBJECTID
Fields:
-
OBJECTID
(
type: esriFieldTypeOID, alias: OBJECTID
)
-
Shape
(
type: esriFieldTypeGeometry, alias: Shape
)
-
Name
(
type: esriFieldTypeString, alias: Name, length: 200
)
-
Category
(
type: esriFieldTypeInteger, alias: Category
, Coded Values:
[0: Unknown]
, [1: Primary]
, [2: Overview]
, ...6 more...
)
-
Shape_Length
(
type: esriFieldTypeDouble, alias: Shape_Length
)
-
Shape_Area
(
type: esriFieldTypeDouble, alias: Shape_Area
)
-
Thumbnail
(
type: esriFieldTypeBlob, alias: Thumbnail
)
-
TITEL
(
type: esriFieldTypeString, alias: TITEL, length: 255
)
-
MASSTAB
(
type: esriFieldTypeInteger, alias: MASSTAB
)
-
HERAUSGABEJAHR
(
type: esriFieldTypeInteger, alias: HERAUSGABEJAHR
)
-
LINK_VORSCHAUBILD
(
type: esriFieldTypeString, alias: LINK_1, length: 255
)
-
LINK_DOWNLOAD
(
type: esriFieldTypeString, alias: LINK_2, length: 255
)
-
KARTENNUMMER
(
type: esriFieldTypeInteger, alias: KARTENNUMMER
)
Default Mosaic Method: Center
Allowed Mosaic Methods: Center,NorthWest,LockRaster,ByAttribute,Nadir,Viewpoint,Seamline,None
SortField:
SortValue: null
Mosaic Operator: First
Default Compression Quality: 75
Default Resampling Method: Bilinear
Max Record Count: 1000
Max Image Height: 4100
Max Image Width: 15000
Max Download Image Count: 20
Max Mosaic Image Count: 20
Allow Raster Function: true
Allow Copy: null
Allow Analysis: null
Allow Compute TiePoints: false
Supports Statistics: true
Supports Advanced Queries: true
Use StandardizedQueries: true
Raster Type Infos:
Name: Image Service
Description: Supports ArcGIS image service
Help:
Name: WMS
Description: Allows a WMS (Web Map Service) layer to be consumed as a raster dataset.
Help:
Name: Raster Dataset
Description: Supports all ArcGIS Raster Datasets
Help:
Has Raster Attribute Table: false
Edit Fields Info: null
Ownership Based AccessControl For Rasters: null
Child Resources:
Info
Histograms
Key Properties
Legend
Raster Function Infos
Supported Operations:
Export Image
Query
Identify
Measure
Compute Histograms
Compute Statistics Histograms
Get Samples
Compute Class Statistics
Query Boundary
Compute Pixel Location
Validate
Project