View In:
ArcGIS JavaScript
ArcGIS Online Map Viewer
ArcGIS Earth
ArcMap
View Footprint In:
ArcGIS Online Map Viewer
Service Description: Gebietskarten der Geologischen Bundesanstalt in unterschiedlichen Maßstäben
Name: image/AT_GBA_GEBIETSKARTEN
Description: Gebietskarten der Geologischen Bundesanstalt in unterschiedlichen Maßstäben
Single Fused Map Cache: false
Extent:
XMin: 113303.41449999809
YMin: 275136.0462099989
XMax: 713070.9144999981
YMax: 561201.0462099989
Spatial Reference: 31297
(31287)
Initial Extent:
XMin: 113303.41449999809
YMin: 275136.0462099989
XMax: 713070.9144999981
YMax: 561201.0462099989
Spatial Reference: 31297
(31287)
Full Extent:
XMin: 113303.41449999809
YMin: 275136.0462099989
XMax: 713070.9144999981
YMax: 561201.0462099989
Spatial Reference: 31297
(31287)
Time Info:
Start Time Field: HERAUSGABEJAHR
End Time Field: HERAUSGABEJAHR
Time Extent:
[1932/01/01 00:00:00 UTC, 2011/01/01 00:00:00 UTC]
Time Reference:
N/A
Pixel Size X: 1.5
Pixel Size Y: 1.5
Band Count: 3
Pixel Type: U8
RasterFunction Infos: {"rasterFunctionInfos": [{
"name": "None",
"description": "A No-Op Function.",
"help": ""
}]}
Mensuration Capabilities:
Has Histograms: false
Has Colormap: false
Has Multi Dimensions : false
Rendering Rule:
Min Scale: 0
Max Scale: 0
Copyright Text: Geologische Bundesanstalt, 6.12.2019
Service Data Type: esriImageServiceDataTypeRGB
Min Values: N/A
Max Values: N/A
Mean Values: N/A
Standard Deviation Values: N/A
Object ID Field: OBJECTID
Fields:
-
OBJECTID
(
type: esriFieldTypeOID, alias: OBJECTID
)
-
Shape
(
type: esriFieldTypeGeometry, alias: Shape
)
-
Name
(
type: esriFieldTypeString, alias: Name, length: 50
)
-
MinPS
(
type: esriFieldTypeDouble, alias: MinPS
)
-
MaxPS
(
type: esriFieldTypeDouble, alias: MaxPS
)
-
LowPS
(
type: esriFieldTypeDouble, alias: LowPS
)
-
HighPS
(
type: esriFieldTypeDouble, alias: HighPS
)
-
Category
(
type: esriFieldTypeInteger, alias: Category
)
-
Tag
(
type: esriFieldTypeString, alias: Tag, length: 20
)
-
GroupName
(
type: esriFieldTypeString, alias: GroupName, length: 50
)
-
ProductName
(
type: esriFieldTypeString, alias: ProductName, length: 50
)
-
CenterX
(
type: esriFieldTypeDouble, alias: CenterX
)
-
CenterY
(
type: esriFieldTypeDouble, alias: CenterY
)
-
ZOrder
(
type: esriFieldTypeInteger, alias: ZOrder
)
-
SOrder
(
type: esriFieldTypeInteger, alias: SOrder
)
-
StereoID
(
type: esriFieldTypeString, alias: StereoID, length: 50
)
-
Thumbnail
(
type: esriFieldTypeBlob, alias: Thumbnail
)
-
TITEL
(
type: esriFieldTypeString, alias: TITEL, length: 255
)
-
HERAUSGABEJAHR
(
type: esriFieldTypeSmallInteger, alias: HERAUSGABEJAHR
)
-
MASSSTAB
(
type: esriFieldTypeInteger, alias: MASSSTAB
)
-
GEOKART_BERICHTSNR
(
type: esriFieldTypeString, alias: GEOKART_BERICHTSNR, length: 50
)
-
MD_KARTE_ID
(
type: esriFieldTypeInteger, alias: MD_KARTE_ID
)
-
LINK
(
type: esriFieldTypeString, alias: LINK, length: 255
)
-
LINK_GIF
(
type: esriFieldTypeString, alias: LINK_GIF, length: 255
)
-
LINK_ADLIB
(
type: esriFieldTypeString, alias: LINK_ADLIB, length: 255
)
-
LINK_PDF
(
type: esriFieldTypeString, alias: LINK_PDF, length: 255
)
-
PRODUKT_ID
(
type: esriFieldTypeInteger, alias: PRODUKT_ID
)
-
Shape_Length
(
type: esriFieldTypeDouble, alias: Shape_Length
)
-
Shape_Area
(
type: esriFieldTypeDouble, alias: Shape_Area
)
Default Mosaic Method: Center
Allowed Mosaic Methods: Center,NorthWest,LockRaster,ByAttribute,Nadir,Viewpoint,Seamline,None
SortField:
SortValue: null
Mosaic Operator: First
Default Compression Quality: 75
Default Resampling Method: Bilinear
Max Record Count: 1000
Max Image Height: 4096
Max Image Width: 16384
Max Download Image Count: 20
Max Mosaic Image Count: 100
Allow Raster Function: true
Allow Copy: null
Allow Analysis: null
Allow Compute TiePoints: false
Supports Statistics: true
Supports Advanced Queries: true
Use StandardizedQueries: true
Raster Type Infos:
Name: Image Service
Description: Supports ArcGIS image service
Help:
Name: WMS
Description: Allows a WMS (Web Map Service) layer to be consumed as a raster dataset.
Help:
Name: Raster Dataset
Description: Supports all ArcGIS Raster Datasets
Help:
Has Raster Attribute Table: false
Edit Fields Info: null
Ownership Based AccessControl For Rasters: null
Child Resources:
Info
Key Properties
Legend
Raster Function Infos
Supported Operations:
Export Image
Query
Identify
Measure
Compute Histograms
Compute Statistics Histograms
Get Samples
Compute Class Statistics
Query Boundary
Compute Pixel Location
Validate
Project