View In:
ArcGIS JavaScript
ArcGIS Online Map Viewer
ArcGIS Earth
ArcMap
View Footprint In:
ArcGIS Online Map Viewer
Service Description: Die Geologischen Bundesländerkarten decken jeweils ein österreichisches Bundesland im Maßstab 1:200.000 oder 1:100.000 ab.
Name: image/AT_GBA_GK100_200
Description: Die Geologischen Bundesländerkarten decken jeweils ein österreichisches Bundesland im Maßstab 1:200.000 oder 1:100.000 ab.
Single Fused Map Cache: false
Extent:
XMin: 100010.42880000174
YMin: 296687.53439999884
XMax: 704130.4288000017
YMax: 599517.5343999988
Spatial Reference: 31297
(31287)
Initial Extent:
XMin: 100010.42880000174
YMin: 296687.53439999884
XMax: 704130.4288000017
YMax: 599517.5343999988
Spatial Reference: 31297
(31287)
Full Extent:
XMin: 100010.42880000174
YMin: 296687.53439999884
XMax: 704130.4288000017
YMax: 599517.5343999988
Spatial Reference: 31297
(31287)
Time Info:
Start Time Field: HERAUSGABEJAHR
End Time Field: HERAUSGABEJAHR
Time Extent:
[1984/01/01 00:00:00 UTC, 2007/01/01 00:00:00 UTC]
Time Reference:
N/A
Pixel Size X: 10.0
Pixel Size Y: 10.0
Band Count: 3
Pixel Type: U8
RasterFunction Infos: {"rasterFunctionInfos": [{
"name": "None",
"description": "A No-Op Function.",
"help": ""
}]}
Mensuration Capabilities:
Has Histograms: true
Has Colormap: false
Has Multi Dimensions : false
Rendering Rule:
Min Scale: 0
Max Scale: 0
Copyright Text: Geologische Bundesanstalt, 6.12.2019
Service Data Type: esriImageServiceDataTypeRGB
Min Values: 1, 1, 1
Max Values: 254, 254, 254
Mean Values: 159.62609661398437, 142.94440689732943, 132.6580426412796
Standard Deviation Values: 80.97370447484212, 78.3627730875198, 75.8229852975048
Object ID Field: OBJECTID
Fields:
-
OBJECTID
(
type: esriFieldTypeOID, alias: OBJECTID
)
-
Shape
(
type: esriFieldTypeGeometry, alias: Shape
)
-
Name
(
type: esriFieldTypeString, alias: Name, length: 50
)
-
MinPS
(
type: esriFieldTypeDouble, alias: MinPS
)
-
MaxPS
(
type: esriFieldTypeDouble, alias: MaxPS
)
-
LowPS
(
type: esriFieldTypeDouble, alias: LowPS
)
-
HighPS
(
type: esriFieldTypeDouble, alias: HighPS
)
-
Category
(
type: esriFieldTypeInteger, alias: Category
)
-
Tag
(
type: esriFieldTypeString, alias: Tag, length: 20
)
-
GroupName
(
type: esriFieldTypeString, alias: GroupName, length: 50
)
-
ProductName
(
type: esriFieldTypeString, alias: ProductName, length: 50
)
-
CenterX
(
type: esriFieldTypeDouble, alias: CenterX
)
-
CenterY
(
type: esriFieldTypeDouble, alias: CenterY
)
-
ZOrder
(
type: esriFieldTypeInteger, alias: ZOrder
)
-
SOrder
(
type: esriFieldTypeInteger, alias: SOrder
)
-
StereoID
(
type: esriFieldTypeString, alias: StereoID, length: 50
)
-
Thumbnail
(
type: esriFieldTypeBlob, alias: Thumbnail
)
-
TITEL
(
type: esriFieldTypeString, alias: TITEL, length: 255
)
-
HERAUSGABEJAHR
(
type: esriFieldTypeSmallInteger, alias: HERAUSGABEJAHR
)
-
MASSSTAB
(
type: esriFieldTypeInteger, alias: MASSSTAB
)
-
LINK
(
type: esriFieldTypeString, alias: LINK, length: 255
)
-
LINK_GIF
(
type: esriFieldTypeString, alias: LINK_GIF, length: 255
)
-
LINK_ADLIB
(
type: esriFieldTypeString, alias: LINK_ADLIB, length: 255
)
-
LINK_PDF
(
type: esriFieldTypeString, alias: LINK_PDF, length: 255
)
-
PRODUKT_ID
(
type: esriFieldTypeInteger, alias: PRODUKT_ID
)
-
Shape_Length
(
type: esriFieldTypeDouble, alias: Shape_Length
)
-
Shape_Area
(
type: esriFieldTypeDouble, alias: Shape_Area
)
Default Mosaic Method: Northwest
Allowed Mosaic Methods: NorthWest,Center
SortField:
SortValue: null
Mosaic Operator: First
Default Compression Quality: 75
Default Resampling Method: Bilinear
Max Record Count: 1000
Max Image Height: 2048
Max Image Width: 8192
Max Download Image Count: 20
Max Mosaic Image Count: 20
Allow Raster Function: true
Allow Copy: null
Allow Analysis: null
Allow Compute TiePoints: false
Supports Statistics: true
Supports Advanced Queries: true
Use StandardizedQueries: true
Raster Type Infos:
Name: WMS
Description: Allows a WMS (Web Map Service) layer to be consumed as a raster dataset.
Help:
Name: Raster Dataset
Description: Supports all ArcGIS Raster Datasets
Help:
Has Raster Attribute Table: false
Edit Fields Info: null
Ownership Based AccessControl For Rasters: null
Child Resources:
Info
Histograms
Key Properties
Legend
Raster Function Infos
Supported Operations:
Export Image
Query
Identify
Measure
Compute Histograms
Compute Statistics Histograms
Get Samples
Compute Class Statistics
Query Boundary
Compute Pixel Location
Validate
Project